Workbook
Name _Toc125454354: '2. IZVRŠENJE PLANA PROGRAMA'!#REF!
Name _Toc339887787: '2. IZVRŠENJE PLANA PROGRAMA'!#REF!
Name Djelatnosti: 'Programske djelatnosti'!$A$1:$A$11

Sheet 1. OSNOVNI PODACI
A9: PLAN PROGRAMSKIH AKTIVNOSTI USTANOVA
A10: U NADLEŽNOSTI MINISTARSTVA KULTURE
A11: ZA 2024. GODINU
A13: Privremeno izvješće (označiti s X)
A14: Konačno izvješće (označiti s X) | E14: X
A16: OIB USTANOVE: | D16: 12091168733
A18: USTANOVA: | D18: =+VLOOKUP($D$16,'Registar proračunskih korisnika'!B:D,3,0) -> HRVATSKA KNJIŽNICA ZA SLIJEPE
A19: ADRESA: | D19: ŠENOINA ULICA 34
A20: POŠTANSKI BROJ: | D20: =+VLOOKUP($D$16,'Registar proračunskih korisnika'!B:F,5,0) -> 10000 ZAGREB
A21: MATIČNI BROJ: | D21: =+VLOOKUP($D$16,'Registar proračunskih korisnika'!B:G,6,0) -> 1494449
C22: RKP: | D22: 23585
C23: PRORAČUNSKA AKTIVNOST: | D23: A835003
A29: PODACI O RAVNATELJU USTANOVE
B31: ime i prezime: | C31: Karolina Zlatar Radigović
B32: telefon / mobitel: | C32: 099 4895 190
B33: e-mail: | C33: ravnateljica@hkzasl.hr
F38: Potpis ravnatelja ustanove

Sheet 2. IZVRŠENJE PLANA PROGRAMA
A1: Tablica: IZVRŠENJE PLANA PROGRAMSKIH AKTIVNOSTI USTANOVA U NADLEŽNOSTI MINISTARSTVA KULTURE I MEDIJA ZA 2024. GODINU
A2: ugovoreno | D2: izvršeno | G2: ostali izvori financiraja
C3: =SUM(C5:C50) -> 38283 | D3: =SUM(D5:D39) -> 38283 | G3: =SUM(G5:G38) -> 5317.5 | H3: =SUM(H5:H29) -> 0
A4: PROGRAMSKA DJELATNOST | B4: NAZIV PROGRAMA | C4: UGOVORENI IZNOS (SREDSTVA MINISTARSTVA - IZVOR 11) | D4: UTROŠENI IZNOS SREDSTAVA MINISTARSTVA - prikazati utrošeni iznos sredstava Ministarstva (izvor 11) | E4: SPECIFIKACIJA TROŠKOVA SREDSTAVA MINISTARSTVA KULTURE I MEDIJA (EUR) | F4: DETALJNI OPIS IZVRŠENOG PROGRAMA (ujedno navesti aktinosti koje su provodene programom te ukoliko ih je bilo navesti razloge odstupanja od planiranog) | G4: UTROŠENA VLASTITA SREDSTVA PO PROGRAMU (izvor 31) | H4: OSTALI IZVORI FINANCIRANJA specificirati izvor (izvor 43, 52)
A5: Knjižnična djelatnost | B5: PODCAST Hrvatske knjižnice za slijepe 2024. | C5: 2261.86 | D5: 2261.86 | E5: Isplaćeni su honorari za 12 Podcasta i goste u iznosu od 1.805,97 eura - konto 32371. Također je kupljena stanica s dva bežićna mikrofona, iznos je 455,89 eura - konto 42219 | F5: Podcast je oblik audio emitiranja putem interneta. Takvi se zapisi mogu slušati direktno sa stranice ili preuzeti u MP3 formatu. Podcastu Hrvatske knjižnice pristupa se putem mrežne i Facebook stranice Knjižnice. U 2024. godini epizode će biti interaktivne kao i do sada odnosno gosti će biti autori, književnici i znanstvenici, a teme razgovora će kroz unaprijed postavljena pitanja usmjeravati korisnici knjižnice. Za razliku od događanja u prostoru knjižnice, na ovaj će način biti u razgovor uključeni i korisnici na području cijele Hrvatske.
A6: Knjižnična djelatnost | B6: Državno natjecanje u brzom i izražajnom čitanju brajice 2024. | C6: 1846.55 | D6: 1846.55 | E6: Konto 32411, iznos od 402,88 eura isplaćena je naknada za trošak prijevoza natjecateljima. Sa konta 32372 izvršena je isplata nagrada osvojenih na natjecanju u iznosu od 1.443,77 eura. Trošak zakuske za natjcatelje je podmiren iz vlastitih sredstava. | F6: Od 2009. godine Hrvatska knjižnica za slijepe organizira Državno natjecanje u brzom i izražajnom čitanju brajice u svrhu poticanja pismenosti slijepih osoba i afirmacije brajice kao takve. Natječu se korisnici Knjižnice, odnosno sve osobe kojima je brajica osnovno pismo. Događanje se organizira u proljeće, a okuplja sve uzraste čitatelja brajice koji su prethodno prošli prednatjecanje u matičnim županijama. Postoji nekoliko kategorija i disciplina koje su podložne modifikaciji s obzirom na razvijanje tehnološke podrške. Najboljim čitateljima se dodjeljuju nagrade, a natjecateljima i videćim pratiteljima koji nisu nastanjeni u Zagrebu, pokrivaju se putni troškovi. Članovi komisija su slijepe i videće osobe, suradnici i djelatnici Knjižnice, a njihov se rad ne honorira. | G6: 225.63
A7: Međunarodna kulturna suradnja | B7: Službeno putovanje 23. Europska konferencija o pismenosti i 7. Panhelenska konferencija o pismenosti, Kreta, Grčka 2024 . | C7: 2401.42 | D7: 2401.42 | E7: Konto 3211 - 2.041,42 i konto 32131 - 360,00 te konto 32141 - 36,30 eura. Za službeno putovanje isplaćena je naknada za dnevnice, smještaj, avio karte i kotizaciju. Naknada za korištenja automobila u službene svrhe isplaćena je s vlastitih sredstava. | F7: Djelatnice Hrvatske knjižnice za slijepe, Ljerka Dinjar i Karolina Zlatar Radigović sudjelovale su na 23. Europskoj konferenciji o pismenosti i 7. Panhelenskoj konferenciji o pismenosti pod motom Pismenost za sve: novi izazovi, nove perspektive. Konferencije su od neprocjenjivog značenja za Hrvatsku knjižnicu za slijepe, zbog održavanja izravnog kontakta s kolegama iz srodnih knjižnica u svijetu te onih koji se bave pismenošću osoba koje imaju teškoće pri čitanju standardnog tiska. | G7: 36.3
A8: Međunarodna kulturna suradnja | B8: Polugodišnji sastanak IFLA LPD sekcije 2024. | C8: 880.57 | D8: 880.57 | E8: Konto 32112 - iznos 320,00 eura, konto 32114 - 252,00, konto 32116 - 308,57 eura, konto 32141 - 36,30 eura. Trošak za dnevnice, avio karte, transfer te smeštaj podmiren je s programske djelatnosti, a naknada za korištenje automobila u službene svrhe s vlastite djelatnosti. | F8: Ovogodišnji prvi polugodišnji sastanak IFLA LPD sekcije održan je u Vilniusu, Latvija. Djelatnica knjižnice, Karolina Zlatar Radigović, kao članica odbora sudjelovala je u izradi akcijskog plana, planiranju IFLA LPD sesije na velikoj IFLA-inom seminaru te saznala iz prve ruke iskustva kolega iz drugih knjižnica. Budući da je Hrvatska knjižnica za slijepe po svom djelokrugu jedina takva ustanova u Hrvatskoj održavanje izravnog kontakta s kolegama iz srodnih knjižnica u svijetu jer se u praksi njihov savjet ili primjer dobre ali i loše prakse pokazao neprocjenjivim. | G8: 36.3
A9: Knjižnična djelatnost | B9: Kviz znanja 2024. | C9: 1034.78 | D9: 1034.78 | E9: Konto 32372 - Isplata osvojenih novčanih nagrada u iznosu od 872,06 eura. Konto 32379 - usluga oblikovanja glazbe 51,20 eura. Na teret vlastitih sredstava smo utrošili za okrijepu. Konto 32931 - 80 eura. | F9: Od 2014. godine Hrvatska knjižnica za slijepe organizira tradicionalno Kviz natjecanje za svoje članove. Voditelj kviza je poznati redatelj, glumac i kvizoman Mario Kovač, a natječu se slijepe i slabovidne osobe. Natjecatelji su podijeljeni u pet ekipa. Pitanja obuhvaćaju različita područja poput književnosti, kulture, sporta, geografije i dr. Događanje se održava u Mjesecu hrvatske knjige. Najboljim natjecateljima dodjeljuju se novčane nagrade, a svima onima koji su došli izvan Zagreba refundiraju se putni troškovi. | G9: 50.87
A10: Knjižnična djelatnost | B10: Dodjela priznanja "Antun Lastrić" 2024. | C10: 191.98 | D10: 191.98 | E10: Konto 32399 - Izrada plaketa za dodjelu priznanja u iznosu od 100,00 eura. Konto 32999 - Ostali nespomenuti rashodi poslovanja -zlatnici za poklon dobitnicima nagrade A. Lastrić u iznosu od 91,98 eura. Konto 32931 - reprezentacija, zakuska je isplaćena na teret vlastitih sredstava. Iznos je 400 eura. | F10: Hrvatska knjižnica za slijepe je 2018. godine utemeljila ovo priznanje kao zahvalu prije svega pojedincima, a onda i udrugama, projektima, ustanovama koje su svojim radom na osobit način doprinijele kulturnom životu, obrazovanju i pismenosti slijepih osoba odnosno korisnika Hrvatske knjižnice za slijepe, te direktno ili indirektno utjecale na djelovanje same Knjižnice. Priznanje se dodjeljuje od 2022. godine na Dan hrvatske knjižnice za slijepe, 18. travnja. U siječnju se raspisuje javni poziv za predlaganje kandidata, a u ožujku Povjerenstvo za dodjelu priznanja odabire dobitnike. | G10: 400
A11: Knjižnična djelatnost | B11: Natječaj za najbolju kratku priču „Sead Ivan Muhamedagić“ 2024. | C11: 738.67 | D11: 738.67 | E11: Konto 32371- isplata honorara za interpretiranje kratkih priča iznos od 48,11 eura i isplata nagrada za najbolje kratke priče u 2024. godini s konta 32372, iznos je 690,56 eura. Konto 3931 - reprezentacija na teret vlastitih sredstava 132,76 eura | F11: Natječaj za najbolju kratku priču revitaliziran je u Hrvatskoj knjižnici za slijepe 2022. godine i sastavni je dio u organiziranju Dana Hrvatske knjižnice za slijepe, 18. travnja kada je proglašenje pobjednika uz javno čitanje prve tri nagrađene priče. Prosudbeno Povjerenstvo prima samo jedan rad od svakog autora, a natjecati se mogu sve prikupljene priče ukoliko zadovoljavaju određene kriterije. Nagrađenim autorima plaća se nakadna za putovanje. Priče ne smiju biti nigdje drugdje objavljivane sve do proglašenja najboljih nakon čega se objavljuju u „Zborniku kratkopričaša“ i to u zvučnom obliku, EPUB formatu i na brajici. | G11: 132.76
A12: Knjižnična djelatnost | B12: Pričom te zovem | C12: 1302.72 | D12: 1302.72 | E12: Konto 32371, isplaćeni su autorski honorari za snimanje četiri priče u studiju hrvatske knjžnice za slijepe i umjetnički honorar za pripovjedno scenski nastup te izraeu islu7strcija i poraptnog materijala za omote CD-ova ispričanih priča | F12: Storytelling ili pripovijedanje je društvena i kulturna aktivnost dijeljenja priča, ponekad s improvizacijom, teatralnošću ili uljepšavanjem. Svaka kultura ima svoje priče ili narative koji se dijele kao sredstvo zabave, obrazovanja, kulturnog očuvanja ili usađivanja moralnih vrijednosti. U Hrvatskoj baš kao i u svijetu pripovijedanje je u velikom uzletu. Čitanje bajki i priča većini je djece dobro poznat osjećaj, ali slušati bajku i pokušati aktivno sudjelovati u njoj poseban je doživljaj. Za potrebe najmlađih korisnika Hrvatske knjižnice za slijepe snimili smo ciklus od četiri priče koje bi tematski obilježile četiri godišnja doba. Po završetku snimanja priča za potrebe korisnika, jedna od priča bila bi ispričana u prostoriji Knjižnice.
A13: Knjižnična djelatnost | B13: Ciklus tribina utorkom | C13: 1403.13 | D13: 1403.13 | E13: Isplaćen je autorski honorar moderatoru Književne tribine i gostima u iznosu od 916,06 eura. Tijekom 2024. godine opdržano je devet tribina. | F13: Tijekom 2024. godine pokrenuli smo ciklus tribina kojim bi mlađe korisnike Knjižnice pokušali zainteresirati za književne i znanstvene teme. Mladi su važni pokretači promjena i imaju bitnu ulogu u izgradnji društava. Glavni cilj ovog kontinuiranog programa je književnom senzibilizacijom i kvalitetnim sadržajima obogatiti svakodnevnicu mladih i svih onih koji se tako osjećaju. Kako Knjižnica djeluje na nacionalnom nivou, samo događanje se ujedno prenosi putem Zoom aplikacije u kojem bi korisnici Knjižnice i svi zainteresirani mogli aktivno sudjelovati. Događanje se i snima te se na taj način omogućuje korisnicima koji nisu mogli sudjelovati u događanju naknadno gledanje/slušanje putem našeg YouTube kanala.
A14: Investicijska potpora | B14: Uređenje interijera knjižnice - čajna kuhinja | C14: 5102.28 | D14: 5102.28 | E14: Konto 42212 - Uredski namještaj, opremljena je kompletna čajna kuhinja ukljućujući i aparate. Iznos je 5.102,28 eura. Dio kuhimje podmiren je s vlastitih sredstava. Iznos je 277,34 eura. | F14: U Knjižnici se nalazila čajna kuhinja koja nije uređivana više od 15 godina te ju je bilo nužno izmijeniti jer je bila izrađena od loših materijala a i aparati više nisu imali svoju funkciju. Preduređenjem čajne kuhinje u knjižnici i tiskari dobili smo uređeniji prostor te nove aparate kojima se osigurava i zaštitat na radu svih djelatnika knjižnice. | G14: 277.34
A15: Investicijska potpora | B15: Radovi u knjižnici i tiskari 2024. | C15: 5288.53 | D15: 5288.53 | E15: Građevinski radovi u printaoni odrađeni su u ukupnom iznosu od 8.583,75 eura. Konto 41241 - Ulaganja na tuđoj imovini radi prava korištenja, iznos 5.288,53 je trošak programske djelatnosti, a 3.295,22 trošak vlastite djelatnosti. | F15: Fond knjiga na brajici u Hrvatskoj knjižnici za slijepe reorganizira se na način da u njega stanu svi pristupačni formati koje Knjižnica proizvodi. U prvoj fazi predviđena je selidba starog fonda i otpis po zadanim kriterijima te uređivanje prostorije za potrebe matične službe, ali i uređivanje sobe knjiga na brajici. Zadnja faza uređenja tiskare podrazumijevala je skidanje starog lamintnog poda, niveliranje poda, uređenja uzemljenja zbog strojeva te keramički radovi. | G15: 3295.22
A16: Informatizacija | B16: Informatizacija knjižnice | C16: 9068.01 | D16: 9068.01 | E16: Ostala nematerijalna imovina, konto 41261 - iznos od 2.050,00 eura utrošen je za izradu web stranice i kreiranje korisničkog sučelja. Sa konta 42211 - Računala i računalna oprema, kupljeni su računala, monitori, tableti, ubiquiti preklopnik, mikser i veliki zvučnik. | F16: Praćenje tehnoloških napredaka i osluškivanje zahtjeva korisnika u prethodnom razdoblju dovolo nas je do ideje stvaranja novih platformi koje će omogućiti jednostavniji pristup sadržajima Knjižnice. Realizacija istih već je započela u 2023. godini kada se uredila mrežna infrastruktura. Od 2024. godine proširili smo tehničke mogućnosti i programska rješenja u svrhu lakše implementacije modernih tehnologija u svakodnevan rad kako bi išli u korak s naprednim uslugama koje svojim korisnicima nude knjižnice našeg tipa u Europi i u svijetu, a to su moderan pristupačan web, streaming usluga za potrebe korisnika knjižnice i pristupačna mobilna aplikacija.
A17: Digitalizacija arhivske, knjižnične i muzejske građe | B17: Digitalizacija arhivskog i dokumentarnog gradiva knjižnice | C17: 2407.5 | D17: 2407.5 | E17: U svrhu digitalizacije fonda koji na sebi ima oznaku trajnog čuvanja kupljena je oprema i to: skeneri,dva računala i licence. Konto 41231 - Licence 398,00 kuna, konto 42211 - Računala i računalna oprema 2.009,50 kuna. | F17: Gradivo u arhivu Knjižnice obrađuje se sukladno temeljnim arhivističkim načelima provenijencije i čuvanja prvobitnoga reda i organizacije a prema usvojenim Pravilima o upravljanju dokumentarnog gradiva Hrvatske knjižnice za slijepe. U 2024. godini započeli smo proces pretvaranja dokumentarnog gradiva u digitalno na način da očuvamo autentičnost, cjelovitost, čitljivost i druge uvjete određene Pravilnikom o upravljanju dokumentarnim gradivom izvan arhiva za sve novonastale dokumente. S Popisa dokumentarnog gradiva Hrvatske knjižnice za slijepe s rokovima čuvanja koji obuhvaća sve vrste gradiva kojima je Hrvatska knjižnica za slijepe u posjedu, izdvojili smo one koji na sebi imaju oznaku trajnog čuvanja te s njima započeli proces digitalizacije fonda uz postavljanje tehničkih preduvjeta. | G17: 826.78
A18: Investicijska potpora | B18: Uređenje depoa knjižnice | C18: 1725 | D18: 1725 | E18: Izvršeni su radovi na knjižničnom depou u iznosu od 1.725,00 eura na teret konta 41241 - Ulaganja na tuđoj imovini radi prava korištenja. | F18: Knjižnični depo koji se počeo uređivati za tu namjenu 2023. godine. U 2024. godini trebalo bi urediti instalacije i samu prostoriju kako bi se moglo prionuti krajnjoj namjeni prostorije a to je uređivanje knjižničnog depoa s pokretnim arhivskim regalima tzv. knjižničarskim kompaktusima u koje bi uspjeli smjestiti veći broj naslova koji su slabije posuđivani ali i dalje atraktivni našim korisnicima. Također bi dio knjižničnog depoa služio da odlaganje velikih bala papira za tiskanje knjiga na brajici.
A19: Međunarodna kulturna suradnja | B19: 2. polugodišnji sastanak IFLA LPD sekcije 2024. i seminar | C19: 2630 | D19: 2630 | E19: Konto 32112 - Dnevnice za službena putovanja iznose 560,94 eura. Konto 32114 - Naknada za smještaj na službenom putu je 1.130,93 eura, a karta za prijevoz na kontu 32116 je 938,13 eura te naknada za korištenje automobila u službene svrhe s vlastite djelatnosti, iznos je 36,30 eura. | F19: Drugi ovogodišnji sastanak IFLAine LPD sekcije kao i siminar održan je u organizaciji National Library Service for the Blind and Print Disabled, Library of Congres, Washington D.C. U ovom petodnevnoj radnoj atmosferi s kolegama koji rade u knjižnicama našeg tipa ali i u drugim organizacijama i poslovnim subjektima bilo je moguće saznati novosti iz područja tehnologije, poslušati priče iz drugih knjižnica kojoj su u fokusu osobe s teškoćom čitanja standardnog tiska, razmijeniti iskustva s kolegicama i kolegama te dogovarati buduće suradnje. Ovakva su događanja prijeko potrebna za našu knjižnicu jer su to jedina mjesta gdje možemo učiti i razvijati se kao knjižnica te podijeliti svoja iskustva s drugima u okruženju sličnih i/ili istih interesa. | G19: 36.3

Sheet 3.A PRORAČUNSKI PLAN-prihodi
A1: BROJ KONTA (4 razina) | B1: NAZIV KONTA (automatski se upisuje unosom kontnog broja) | C1: SREDSTVA MK-a ZA PROGRAMSKU DJELTNOST | D1: VIŠAK IZ PRETHODNE GODINE RASPOREĐEN PREMA KONTIMA | E1: VLASTITA SREDSTVA | I1: UKUPNO
E2: IZVOR 31 | F2: IZVOR 43 | G2: IZVOR 52 | H2: IZVOR 61
A3: =+IF(C3=C4," ","GREŠKA") -> GREŠKA | B3: Ukupni iznosi iz tablice 2. | C3: =+'2. IZVRŠENJE PLANA PROGRAMA'!H2 -> 0 | I3: =+'2. IZVRŠENJE PLANA PROGRAMA'!G2 -> ostali izvori financiraja
A4: =+IF(I3=I4," ","GREŠKA") -> GREŠKA | B4: UKUPNO PRIHODI | C4: =SUM(C5:C1048576) -> 81500 | D4: =SUM(D5:D1048576) -> 14455 | E4: =SUM(E5:E1048576) -> 0 | F4: =SUM(F5:F1048576) -> 0 | G4: =SUM(G5:G1048576) -> 0 | H4: =SUM(H5:H1048576) -> 0 | I4: =SUM(I5:I1048576) -> 95955
B5: 67111 | C5: 53500 | I5: =SUM(C5:H5) -> 53500
B6: 67121 | C6: 28000 | I6: =SUM(C6:H6) -> 28000
B7: 92211 | D7: 14455 | I7: =SUM(C7:H7) -> 14455
B8: =+VLOOKUP(A8,'Kontni plan'!B:C,2,0) -> #N/A | I8: =SUM(C8:H8) -> 0
B9: =+VLOOKUP(A9,'Kontni plan'!B:C,2,0) -> #N/A | I9: =SUM(C9:H9) -> 0
B10: =+VLOOKUP(A10,'Kontni plan'!B:C,2,0) -> #N/A | I10: =SUM(C10:H10) -> 0
B11: =+VLOOKUP(A11,'Kontni plan'!B:C,2,0) -> #N/A | I11: =SUM(C11:H11) -> 0
B12: =+VLOOKUP(A12,'Kontni plan'!B:C,2,0) -> #N/A | I12: =SUM(C12:H12) -> 0
B13: =+VLOOKUP(A13,'Kontni plan'!B:C,2,0) -> #N/A | I13: =SUM(C13:H13) -> 0
B14: =+VLOOKUP(A14,'Kontni plan'!B:C,2,0) -> #N/A | I14: =SUM(C14:H14) -> 0
B15: =+VLOOKUP(A15,'Kontni plan'!B:C,2,0) -> #N/A | I15: =SUM(C15:H15) -> 0
B16: =+VLOOKUP(A16,'Kontni plan'!B:C,2,0) -> #N/A | I16: =SUM(C16:H16) -> 0
B17: =+VLOOKUP(A17,'Kontni plan'!B:C,2,0) -> #N/A | I17: =SUM(C17:H17) -> 0
B18: =+VLOOKUP(A18,'Kontni plan'!B:C,2,0) -> #N/A | I18: =SUM(C18:H18) -> 0
B19: =+VLOOKUP(A19,'Kontni plan'!B:C,2,0) -> #N/A | I19: =SUM(C19:H19) -> 0
... B23: =+VLOOKUP(A23,'Kontni plan'!B:C,2,0) -> #N/A | I23: =SUM(C23:H23) -> 0

Sheet 3.B PRORAČUNSKI PLAN-rashodi
A1: BROJ KONTA (4 razina) | B1: NAZIV KONTA (automatski se upisuje unosom kontnog broja) | C1: SREDSTVA MK-a ZA PROGRAMSKU DJELTNOST | D1: VIŠAK IZ PRETHODNE GODINE RASPOREĐEN PREMA KONTIMA | E1: VLASTITA SREDSTVA | I1: UKUPNO
E2: IZVOR 31 | F2: IZVOR 43 | G2: IZVOR 52 | H2: IZVOR 61
A3: =+IF(C3=C4," ","GREŠKA") -> GREŠKA | B3: Ukupni iznos iz tablice 2. | C3: =+'2. IZVRŠENJE PLANA PROGRAMA'!H2 -> 0 | I3: =+'2. IZVRŠENJE PLANA PROGRAMA'!G2 -> ostali izvori financiraja
A4: =+IF(I3=I4," ","GREŠKA") -> GREŠKA | B4: UKUPNO RASHODI | C4: =SUM(C5:C1048576) -> 81500 | D4: =SUM(D5:D1048576) -> 14455 | F4: =SUM(F5:F1048576) -> 0 | G4: =SUM(G5:G1048576) -> 0 | H4: =SUM(H5:H1048576) -> 0 | I4: =SUM(I5:I1048576) -> 95955
B5: 32391 | C5: 24000 | D5: 4000 | I5: =SUM(C5:H5) -> 28000
B6: 32339 | C6: 12000 | D6: 0 | I6: =SUM(C6:H6) -> 12000
B7: 32372 | C7: 0 | D7: 4900 | I7: =SUM(C7:H7) -> 4900
B8: 42211 | C8: 28000 | D8: 5074 | I8: =SUM(C8:H8) -> 33074
B9: 42239 | C9: 2500 | D9: 481 | I9: =SUM(C9:H9) -> 2981
B10: 32331 | C10: 15000 | I10: =SUM(C10:H10) -> 15000
B11: =+VLOOKUP(A11,'Kontni plan'!B:C,2,0) -> #N/A | I11: =SUM(C11:H11) -> 0
B12: =+VLOOKUP(A12,'Kontni plan'!B:C,2,0) -> #N/A | I12: =SUM(C12:H12) -> 0
B13: =+VLOOKUP(A13,'Kontni plan'!B:C,2,0) -> #N/A | I13: =SUM(C13:H13) -> 0
B14: =+VLOOKUP(A14,'Kontni plan'!B:C,2,0) -> #N/A | I14: =SUM(C14:H14) -> 0
B15: =+VLOOKUP(A15,'Kontni plan'!B:C,2,0) -> #N/A | I15: =SUM(C15:H15) -> 0
B16: =+VLOOKUP(A16,'Kontni plan'!B:C,2,0) -> #N/A | I16: =SUM(C16:H16) -> 0
B17: =+VLOOKUP(A17,'Kontni plan'!B:C,2,0) -> #N/A | I17: =SUM(C17:H17) -> 0
B18: =+VLOOKUP(A18,'Kontni plan'!B:C,2,0) -> #N/A | I18: =SUM(C18:H18) -> 0
B19: =+VLOOKUP(A19,'Kontni plan'!B:C,2,0) -> #N/A | I19: =SUM(C19:H19) -> 0
B20: =+VLOOKUP(A20,'Kontni plan'!B:C,2,0) -> #N/A | I20: =SUM(C20:H20) -> 0
B21: =+VLOOKUP(A21,'Kontni plan'!B:C,2,0) -> #N/A | I21: =SUM(C21:H21) -> 0
B22: =+VLOOKUP(A22,'Kontni plan'!B:C,2,0) -> #N/A | I22: =SUM(C22:H22) -> 0
... B46: =+VLOOKUP(A46,'Kontni plan'!B:C,2,0) -> #N/A | I46: =SUM(C46:H46) -> 0

Sheet Kontni plan
A1: Klasa | B1: Konto | C1: Naziv konta
A2: O | B2: 3111 | C2: Plaće za redovan rad
A3: O | B3: 3112 | C3: Plaće u naravi
A4: O | B4: 3113 | C4: Plaće za prekovremeni rad
A5: O | B5: 3114 | C5: Plaće za posebne uvjete rada
A6: O | B6: 3121 | C6: Ostali rashodi za zaposlene
A7: O | B7: 3131 | C7: Doprinosi za mirovinsko osiguranje
A8: O | B8: 3132 | C8: Doprinosi za obvezno zdravstveno osiguranje
A9: O | B9: 3133 | C9: Doprinosi za obvezno osiguranje u slučaju nezaposlenosti
A10: O | B10: 3211 | C10: Službena putovanja
A11: O | B11: 3212 | C11: Naknade za prijevoz, za rad na terenu i odvojeni život
A12: O | B12: 3213 | C12: Stručno usavršavanje zaposlenika
A13: O | B13: 3214 | C13: Ostale naknade troškova zaposlenima
... A319: O | B319: 9969 | C319: Ostali izvanbilančni zapisi

Sheet Registar proračunskih korisnika
A1: R. BR. | B1: OIB | C1: RKP | D1: NAZIV PRORAČUNSKOGA KORISNIKA | E1: ADRESA PRORAČUNSKOGA KORISNIKA | F1: POŠTANSKI BROJ I NAZIV GRADA/OPĆINE | G1: MATIČNI BROJ | H1: NAZIV PRORAČUNSKOGA KORISNIKA | I1: USTANOVE MK | J1: AKTIVNOST
A2: 55 | B2: 35237547014 | C2: 49075 | D2: AGENCIJA ZA ELEKTRONIČKE MEDIJE | E2: JAGIĆEVA 31 | F2: 10000 ZAGREB | G2: 02307014 | H2: AGENCIJA ZA ELEKTRONIČKE MEDIJE | I2: OSTALE USTANOVE | J2: A908002
A3: 56 | B3: 80099091562 | C3: 789 | D3: DRŽAVNI ARHIV U BJELOVARU | E3: TRG EUGENA KVATERNIKA 6 | F3: 43000 BJELOVAR | G3: 3316734 | H3: DRŽAVNI ARHIV U BJELOVARU | I3: ARHIVI | J3: A565028
A4: 57 | B4: 1076882554 | C4: 797 | D4: DRŽAVNI ARHIV U DUBROVNIKU | E4: SV.DOMINIKA 1 | F4: 20000 DUBROVNIK | G4: 3303870 | H4: DRŽAVNI ARHIV U DUBROVNIKU | I4: ARHIVI | J4: A565028
A5: 58 | B5: 34694889661 | C5: 23577 | D5: DRŽAVNI ARHIV U GOSPIĆU | E5: KANIŠKA 17 | F5: 53000 GOSPIĆ | G5: 1475444 | H5: DRŽAVNI ARHIV U GOSPIĆU | I5: ARHIVI | J5: A565028
A6: 59 | B6: 99575902022 | C6: 801 | D6: DRŽAVNI ARHIV U KARLOVCU | E6: LJ.ŠESTIĆA 5 | F6: 47000 KARLOVAC | G6: 3123367 | H6: DRŽAVNI ARHIV U KARLOVCU | I6: ARHIVI | J6: A565028
A7: 60 | B7: 61338774671 | C7: 810 | D7: DRŽAVNI ARHIV U OSIJEKU | E7: KAMILA FIRINGERA 1 | F7: 31000 OSIJEK | G7: 3014223 | H7: DRŽAVNI ARHIV U OSIJEKU | I7: ARHIVI | J7: A565028
A8: 61 | B8: 55059300119 | C8: 828 | D8: DRŽAVNI ARHIV U PAZINU | E8: VLADIMIRA NAZORA 3 | F8: 52000 PAZIN | G8: 3089240 | H8: DRŽAVNI ARHIV U PAZINU | I8: ARHIVI | J8: A565028
A9: 62 | B9: 16391096016 | C9: 836 | D9: DRŽAVNI ARHIV U RIJECI | E9: PARK N. HOSTA 2 | F9: 51000 RIJEKA | G9: 3321088 | H9: DRŽAVNI ARHIV U RIJECI | I9: ARHIVI | J9: A565028
A10: 63 | B10: 35994268014 | C10: 844 | D10: DRŽAVNI ARHIV U SISKU | E10: FRANKOPANSKA 21 | F10: 44000 SISAK | G10: 3313824 | H10: DRŽAVNI ARHIV U SISKU | I10: ARHIVI | J10: A565028
A11: 64 | B11: 11265594372 | C11: 852 | D11: DRŽAVNI ARHIV U SLAVONSKOM BRODU | E11: AUGUSTA CESARCA 1 | F11: 35000 SLAVONSKI BROD | G11: 3071162 | H11: DRŽAVNI ARHIV U SLAVONSKOM BRODU | I11: ARHIVI | J11: A565028
A12: 65 | B12: 61469620638 | C12: 869 | D12: DRŽAVNI ARHIV U SPLITU | E12: GLAGOLJAŠKA 18 | F12: 21000 SPLIT | G12: 3118452 | H12: DRŽAVNI ARHIV U SPLITU | I12: ARHIVI | J12: A565028
A13: 66 | B13: 97880836355 | C13: 43915 | D13: DRŽAVNI ARHIV U ŠIBENIKU | E13: VELIMIRA ŠKORPIKA 5 | F13: 22000 ŠIBENIK | G13: 2435411 | H13: DRŽAVNI ARHIV U ŠIBENIKU | I13: ARHIVI | J13: A565028
A14: 67 | B14: 72801109643 | C14: 877 | D14: DRŽAVNI ARHIV U VARAŽDINU | E14: TRSTENJAKOVA 7 | F14: 42000 VARAŽDIN | G14: 3006166 | H14: DRŽAVNI ARHIV U VARAŽDINU | I14: ARHIVI | J14: A565028
... A46: 99 | B46: 8647229584 | C46: 22339 | D46: HRVATSKI RESTAURATORSKI ZAVOD | E46: NIKE GRŠKOVIĆA 23 | F46: 10000 ZAGREB | G46: 1250795 | H46: HRVATSKI RESTAURATORSKI ZAVOD | I46: OSTALE USTANOVE | J46: A834001
A47: 100 | B47: 12091168733 | C47: 23585 | D47: HRVATSKA KNJIŽNICA ZA SLIJEPE | E47: DRAŠKOVIĆEVA 80/1 | F47: 10000 ZAGREB | G47: 1494449 | H47: HRVATSKA KNJIŽNICA ZA SLIJEPE | I47: OSTALE USTANOVE
A48: 101 | B48: 10852199405 | C48: 25878 | D48: HRVATSKO NARODNO KAZALIŠTE | E48: TRG MARŠALA TITA 6A | F48: 10000 ZAGREB | G48: 3205479 | H48: HRVATSKO NARODNO KAZALIŠTE | I48: OSTALE USTANOVE | J48: A832002
A49: 102 | B49: 27103918402 | C49: 44926 | D49: HRVATSKI AUDIOVIZUALNI CENTAR | E49: NOVA VES 18 | F49: 10000 ZAGREB | G49: 2275341 | H49: HRVATSKI AUDIOVIZUALNI CENTAR | I49: OSTALE USTANOVE | J49: A785009
A50: 103 | B50: 42850342757 | C50: 45189 | D50: MEĐUNARODNI CENTAR ZA PODVODNU ARHEOLOGIJU | E50: BOŽIDARA PETRANOVIĆA 1 | F50: 23000 ZADAR | G50: 2479184 | H50: MEĐUNARODNI CENTAR ZA PODVODNU ARHEOLOGIJU | I50: OSTALE USTANOVE | J50: A843002

Sheet Programske djelatnosti
A1: Arheološka baština
A2: Arhivska djelatnost
A3: Časopisi
A4: Digitalizacija arhivske, knjižnične i muzejske građe
A5: Dramska umjetnost
A6: Glazbene i glazbeno-scenske umjetnosti
A7: Informatizacija
A8: Inovativne umjetničke i kulturne prakse
A9: Investicijska potpora
A10: KKT-Međunarodna kulturna djelatnost
A11: Književne manifestacije
A12: Književni programi knjižara
... A28: Zaštite i očuvanja nematerijalnih kulturnih dobara
